BEGIN:VCALENDAR
VERSION:2.0
PRODID:-//wp-events-plugin.com//7.2.3.1//EN
TZID:Europe/Berlin
X-WR-TIMEZONE:Europe/Berlin
BEGIN:VEVENT
UID:449@radentscheidmuenchen.de
DTSTART;TZID=Europe/Berlin:20251113T190000
DTEND;TZID=Europe/Berlin:20251113T210000
DTSTAMP:20251111T221436Z
URL:https://www.radentscheidmuenchen.de/veranstaltungen/ba-15-trudering-ri
 em-buergerversammlung-2025/
SUMMARY:Beteilige Dich! BA 15 Trudering-Riem Bürgerversammlung 2025
DESCRIPTION:Schwerpunktthemen werden voraussichtlich sein:\n\n1. Baugebiete
  / Bauplanungsgebiete im Stadtbezirk – jeweils aktueller Sachstand\n- Ar
 rondierung Kirchtrudering – insbesondere Dimension der Hochpunkte und Er
 schließungsstraße / Umgehungsstraße Kirchtrudering\n- Eckdaten und gepl
 ante Bebauung am Rappenweg\n- Bebauungsplan bzw. Bauantrag Fauststraße 90
 \n2. Einrichtung von Schulstraßen – jeweils aktueller Sachstand - Forel
 lenstraße\n- Lehrer-Wirth-Straße\n3. Ortskern Trudering – Situation f
 ür Fahrradfahrer\n- Planungen vor dem Hintergrund von zwei schweren Verke
 hrsunfällen\n4. Parken von Kfz und E-Scooter auf Gehwegen – aktueller S
 achstand\n5. Glasfaserversorgung in Trudering und Waldtrudering\n6. Barrie
 refreiheit am Bahnhof Riem\n7. Situation in Riem hinsichtlich Einrichtunge
 n der Sozial- und Wohnungshilfe\n\nDie Stadt veröffentlicht die Schwerpun
 ktthemen im Voraus.\n\nHier ist eine Übersicht aller beschlossenen Anträ
 ge auf allen Bürgerversammlungen der aktuellen Wahlperiode.\n\nHier kanns
 t Du nach beschlossenen Anträgen auf den letzten Bürgerversammlungen Dei
 nes Bezirkes suchen.\n\n&nbsp\;\nDie städtische E-Mail-Einladung zu diese
 r Bürgerversammlung ist am 8. November angekommen - sie kann hier abonni
 ert werden.  Hast Du auch eine Einladung per Post bekommen?\nDie angenomm
 enen Verkehrs-Anträge aus 2024 haben wir hier gesammelt und ausgewertet.\
 n12 von 20 Anträgen insgesamt gingen um Mobilität und Verkehrsthemen –
  wiederum 91% davon nach unserer Rechnung sind für Verkehrssicherheit\, V
 erkehrsberuhigung\, und weniger Belastung des öffentlichen Raums durch LK
 Ws und Autos!  Weiter so!  Wir hoffen\, dass diese und andere Anträge a
 ls Vorlagen für Dich dienen können\, um die Bürgerbeteiligung zu stärk
 en!\n\n&nbsp\;\n  \n\n\nE 02227\nAhndung Gehwegparken\n\n\nE 02225\nAntrag
  zu zwei statt vier asphaltierten Kfz-Spuren auf der neuen Erschließungss
 traße im Gebiet Arrondierung KT/Bauabschnitt 5 der Messestadt\n\n\nE 0221
 6\nAufkiesung des Zuwegs am Sulzer-Belchen-Weg zum Grünstreifen zwischen 
 Feldbergstraße und Friedenspromenade\n\n\nE 02222\nBeschilderung der Park
 eingänge des Riemer Parks bezüglich des Zusammenspiels zwischen Fahrradf
 ahrenden und Fußgänger*innen\n\n\nE 02230\nDurchsetzung der Straßenverk
 ehrsordnung im Truderinger Ortskern\n\n\nE 02223\nEinrichtung eines Fußg
 ängerüberwegs Am Mitterfeld auf Höhe der Karotschstraße\n\n\nE 02231\n
 Entschärfung der gefährlichen Gehwegsituation in der Karotschstraße\n\n
 \nE 02214\nHerrichtung des Weges "Breites Geräumt"\n\n\nE 02212\nMobile G
 eschwindigkeitsanzeigen in der Friedenspromenade aufstellen\n\n\nE 02228\n
 Parkverbot und Verbreiterung des Gehwegs in der Friedrich-Creuzer-Straße\
 n\n\nE 02226\nSicherheit und Zugänglichkeit für Fußgänger auf Gehwegen
 \n\n\n\nIn Oktober 2025 hat die Stadt die Ergebnisse der Haushaltsbefragun
 g „Mobilität in Städten“ aus 2023 veröffentlicht – jeder Bezirk h
 at eine eigene Grafik bekommen mit den Verkehrsmittelanteilen\, auch Modal
  Split benannt.  Fußverkehr und Radverkehr nehmen grundsätzlich überal
 l in München zu!\n\nModal-Split Informationen 2023 Seite 25 Stadtbezirk 1
 5: Trudering-Riem\n\n&nbsp\;\n\n
ATTACH;FMTTYPE=image/jpeg:https://www.radentscheidmuenchen.de/wp-content/u
 ploads/2025/07/2025-Buergerversammlung-Trudering-Riem.png
CATEGORIES:Bürgerbeteiligung,Bürgerversammlung,Öffentliche
 Veranstaltung,👉 Empfehlung (andere Veranstalter als REM)
LOCATION:Mensa Bildungscampus Riem\, Paul-Wassermann-Straße 12\, München\
 , Deutschland
X-APPLE-STRUCTURED-LOCATION;VALUE=URI;X-ADDRESS=Paul-Wassermann-Straße 12\
 , München\, Deutschland;X-APPLE-RADIUS=100;X-TITLE=Mensa Bildungscampus R
 iem:geo:0,0
END:VEVENT
BEGIN:VTIMEZONE
TZID:Europe/Berlin
X-LIC-LOCATION:Europe/Berlin
BEGIN:STANDARD
DTSTART:20251026T020000
TZOFFSETFROM:+0200
TZOFFSETTO:+0100
TZNAME:CET
END:STANDARD
END:VTIMEZONE
END:VCALENDAR