BEGIN:VCALENDAR
VERSION:2.0
PRODID:-//wp-events-plugin.com//7.2.3.1//EN
TZID:Europe/Berlin
X-WR-TIMEZONE:Europe/Berlin
BEGIN:VEVENT
UID:446@radentscheidmuenchen.de
DTSTART;TZID=Europe/Berlin:20251023T190000
DTEND;TZID=Europe/Berlin:20251023T190000
DTSTAMP:20251023T185805Z
URL:https://www.radentscheidmuenchen.de/veranstaltungen/ba-17-obergiesing-
 fasangarten-buergerversammlung-2025/
SUMMARY:Mach mit! BA 17 Obergiesing-Fasangarten Bürgerversammlung 2025
DESCRIPTION:Die Stadt veröffentlicht immer die Tagesordnung im Voraus hier
 .\nFür 2025 sind die voraussichtlichen Schwerpunktthemen für Obergiesing
 -Fasangarten:\n1.Tegernseer Platz – aktueller Sachstand\n- Umgestaltung\
 n2.Verkehr im Stadtbezirk – jeweils aktueller Sachstand\n- Fuß- und Rad
 wegbrücke Giesinger Berg\n- Martin-Luther-Straße\, Popup-Radwege\n- Rege
 rbrücke\, verkehrliche Verbesserung für Fußgänger*innen und Radfahrer*
 innen\n3. Sanierungskonzept und Baumkataster Amisiedlung – aktueller Sac
 hstand\n4. Flüchtlingsunterkunft Schlierseestraße – aktueller Sachstan
 d\n5. McGraw Graben\, Bebauung (Stadibau) – aktueller Sachstand\, Zeitsc
 hiene\nAm 18. Oktober ging die städtische E-Mail-Einladung zu dieser Bür
 gerversammlung raus – sie kann hier abonniert werden.  Hast Du auch ei
 ne Einladung per Post bekommen?\nDie angenommenen Verkehrs-Anträge aus 20
 24 haben wir auf unserer Seite gesammelt und ausgewertet.\n11 von 29 ginge
 n um Mobilität und Verkehrsthemen - wiederum 100% davon sind für Verkehr
 ssicherheit\, Verkehrsberuhigung\, und weniger Belastung des öffentlichen
  Raums durch LKWs und Autos! 🎉 Weiter so!  Wir hoffen\, dass diese und
  andere Anträge als Vorlagen für Dich dienen können\, um die Bürgerbet
 eiligung zu stärken!\n\n  \n\n\nE 02243\nÄnderung der Vorfahrtsregelung 
 an der Kreuzung St.-Martin-Straße und Herzogstandstraße (auf normale Rec
 hts-vor-Links der 30er Zone)\n\n\nE 02245\nEinrichtung eines Fußgängerü
 berweg an der Kreuzung Stadelheimerstraße und Frasdorferstraße\n\n\nE 02
 251\nFahrbahnen des Mittleren Rings mit Richtungsbeschriftungen versehen w
 ie am Innsbrucker Ring\n\n\nE 02252\nVerbesserung der Straßenbeleuchtung 
 auf öffentlichen Straßen des Stadtbezirks 17\n\n\nE 02253\nAnordnung ein
 er Einbahnstraße in der Sachrangerstraße\n\n\nE 02254\nAusbau des Radweg
 s am Giesinger Berg (Der vollständige Text dieses Antrags lautet: "Der Ve
 rkehrsversuch war sehr gut jetzt muss der vollständige Ausbau kommen\, au
 ch wegen der Schule + Fußgänger*innen"\n\n\nE 02255\nTaktverdichtung des
  Expressbusses X30\n\n\nE 02257\nBauliche Lösung für die Überbrückung 
 des Höhenunterschieds zwischen Zug und Bahnsteigkante am Bahngleis des Gi
 esinger Bahnhofs\n\n\nE 02258\nVerlängerung der Grünphase für Fußgäng
 er der Fußgängerampelschaltung über die Chiemgaustraße\, Ecke Traunste
 iner Straße\n\n\nE 02259\nAkustische oder taktile Kennbarmachung defekter
  Türen in den S-Bahnen Münchens für sehbehinderte Menschen\n\n\nE 02260
 \nFestsetzung eines Stellplatzschlüssels von 1:1 für die gesamte Siedlun
 g am Perlacher Forst\n\n\n\nIn Oktober 2025 hat die Stadt die Ergebnisse d
 er Haushaltsbefragung „Mobilität in Städten“ aus 2023 veröffentlich
 t - jeder Bezirk hat eine eigene Grafik bekommen mit den Verkehrsmittelant
 eilen\, auch Modal Split benannt.  Fußverkehr und Radverkehr nehmen grun
 dsätzlich überall in München zu!\n\nModal-Split Informationen 2023 Seit
 e 27 Stadtbezirk 17: Obergiesing-Fasangarten\n\n\n\nHier ist eine Übersic
 ht aller beschlossenen Anträge auf allen Bürgerversammlungen der aktuell
 en Wahlperiode.\n\nHier kannst Du nach beschlossenen Anträgen auf den let
 zten Bürgerversammlungen Deines Bezirkes suchen.
ATTACH;FMTTYPE=image/jpeg:https://www.radentscheidmuenchen.de/wp-content/u
 ploads/2025/07/2025-Buergerversammlung-Obergiesing-Fasangarten.jpg
CATEGORIES:Bürgerbeteiligung,Bürgerversammlung,Öffentliche
 Veranstaltung,👉 Empfehlung (andere Veranstalter als REM)
LOCATION:Aula Anton-Fingerle-Zentrum\, Schlierseestraße 47\, München\, 81
 539\, Deutschland
GEO:48.113252;11.593376
X-APPLE-STRUCTURED-LOCATION;VALUE=URI;X-ADDRESS=Schlierseestraße 47\, Mün
 chen\, 81539\, Deutschland;X-APPLE-RADIUS=100;X-TITLE=Aula Anton-Fingerle-
 Zentrum:geo:48.113252,11.593376
END:VEVENT
BEGIN:VTIMEZONE
TZID:Europe/Berlin
X-LIC-LOCATION:Europe/Berlin
BEGIN:DAYLIGHT
DTSTART:20250330T030000
TZOFFSETFROM:+0100
TZOFFSETTO:+0200
TZNAME:CEST
END:DAYLIGHT
END:VTIMEZONE
END:VCALENDAR