BEGIN:VCALENDAR
VERSION:2.0
PRODID:-//wp-events-plugin.com//7.2.3.1//EN
TZID:Europe/Berlin
X-WR-TIMEZONE:Europe/Berlin
BEGIN:VEVENT
UID:445@radentscheidmuenchen.de
DTSTART;TZID=Europe/Berlin:20251021T190000
DTEND;TZID=Europe/Berlin:20251021T210000
DTSTAMP:20251020T171935Z
URL:https://www.radentscheidmuenchen.de/veranstaltungen/ba-20-hadern-buerg
 erversammlung-2025/
SUMMARY:Beteilige Dich! BA 20 Hadern Bürgerversammlung 2025
DESCRIPTION:Die Stadt veröffentlicht immer die Tagesordnung im Voraus hier
 .\n\nDie meisten Bezirke veröffentlichen dabei Schwerpunktthemen\, aber H
 adern hat keine im Voraus bekannt gegeben. Das ist eine Ausnahme unter den
  Bezirken.\n\nAm 16. Oktober ging die städtische E-Mail-Einladung zur Bü
 rgerversammlung Hadern raus – sie kann hier abonniert werden.  Hast Du 
 (wenn Haderne*r Wahlberechtigte*r) auch eine Einladung per Post bekommen?\
 n\nDie angenommenen Anträge aus 2024 haben wir auf unserer Seite gesammel
 t und ausgewertet - 6 von 11 gingen um Mobilität - 100% davon sind für V
 erkehrssicherheit\, Verkehrsberuhigung\, und weniger Belastung durch LKWs 
 und Autos! 🎉 Weiter so!\n  \n\n\nE 02204\nMehr Geschwindigkeitskontroll
 en und Verbesserung der Verkehrssicherheit in der Haderunstraße\n\n\nE 02
 205\nMaßnahmen zur Verkehrsberuhigung in der Haderunstraße\n\n\nE 02207\
 nVerkehrskonzept für Hadern\n\n\nE 02208\nAusbau Fußgängerfurt in der W
 aldwiesenstraße auf Höhe "Am Heidebruch"\n\n\nE 02209\nDurchsetzung der 
 Haltverbote an der Kreuzung Fürstenrieder Straße / Ossingerstraße\n\n\n
 E 02210\nErstellung und Umsetzung eines Verkehrskonzeptes für die Waldwie
 senstraße\n\n\n\n&nbsp\;\n\nHier ist eine Übersicht aller beschlossenen 
 Anträge auf allen Bürgerversammlungen der aktuellen Wahlperiode.\n\nHier
  kannst Du nach beschlossenen Anträgen auf den letzten Bürgerversammlung
 en Deines Bezirkes suchen.
ATTACH;FMTTYPE=image/jpeg:https://www.radentscheidmuenchen.de/wp-content/u
 ploads/2025/07/2025-Buergerversammlung-Hadern.jpg
CATEGORIES:Bürgerbeteiligung,Bürgerversammlung,Öffentliche
 Veranstaltung,👉 Empfehlung (andere Veranstalter als REM)
LOCATION:Turnhalle Grundschule\, Großhaderner Str. 50\, München\, 81375 \
 , Deutschland
X-APPLE-STRUCTURED-LOCATION;VALUE=URI;X-ADDRESS=Großhaderner Str. 50\, Mü
 nchen\, 81375 \, Deutschland;X-APPLE-RADIUS=100;X-TITLE=Turnhalle Grundsch
 ule:geo:0,0
END:VEVENT
BEGIN:VTIMEZONE
TZID:Europe/Berlin
X-LIC-LOCATION:Europe/Berlin
BEGIN:DAYLIGHT
DTSTART:20250330T030000
TZOFFSETFROM:+0100
TZOFFSETTO:+0200
TZNAME:CEST
END:DAYLIGHT
END:VTIMEZONE
END:VCALENDAR