BEGIN:VCALENDAR
VERSION:2.0
PRODID:-//wp-events-plugin.com//7.2.3.1//EN
TZID:Europe/Berlin
X-WR-TIMEZONE:Europe/Berlin
BEGIN:VEVENT
UID:110@radentscheidmuenchen.de
DTSTART;TZID=Europe/Berlin:20240411T190000
DTEND;TZID=Europe/Berlin:20240411T210000
DTSTAMP:20240409T150954Z
URL:https://www.radentscheidmuenchen.de/veranstaltungen/buergerversammlung
 -2024-ba-01-altstadt-lehel/
SUMMARY:Bürgerversammlung 2024 BA 01 Altstadt-Lehel
DESCRIPTION:Schwerpunktthemen werden voraussichtlich sein:\n1. „Altstadt 
 für Alle“ – Aktueller Sachstand - Öffentlichkeitsbeteiligung und Mob
 ilitätsthemen\, geplante Umsetzung\n2. Baustellen im Stadtbezirk – Aktu
 eller Sachstand\n- Koordination und Auswirkungen auf den Stadtbezirk\n- Fe
 rtigstellung Ludwigsbrücke/Inbetriebnahme Tram\n3. Geplanter Tram-Haltest
 ellenausbau am Maxmonument – Aktueller Sachstand\n4. Bebauungsplanverfah
 ren Kronawitterplatz – Aktueller Sachstand - mögliche alternative Planu
 ngen\n5. Planungsstopp für alle SIGNA-Projekte – Aktueller Sachstand - 
 Weiterbau\, Übernahmen\, Leerstand\n6. Novellierung der Straßenreinigung
 sgebührensatzung – Aktueller Sachstand\n- Anpassung der Gebühren\n7. P
 ilotprojekt „Gelber Sack“ im Lehel – Aktueller Sachstand
CATEGORIES:Bürgerversammlung
LOCATION:Festsaal Altes Rathaus\, Marienplatz 15\, München\, 80331 \, Deut
 schland
X-APPLE-STRUCTURED-LOCATION;VALUE=URI;X-ADDRESS=Marienplatz 15\, München\,
  80331 \, Deutschland;X-APPLE-RADIUS=100;X-TITLE=Festsaal Altes Rathaus:ge
 o:0,0
END:VEVENT
BEGIN:VTIMEZONE
TZID:Europe/Berlin
X-LIC-LOCATION:Europe/Berlin
BEGIN:DAYLIGHT
DTSTART:20240331T030000
TZOFFSETFROM:+0100
TZOFFSETTO:+0200
TZNAME:CEST
END:DAYLIGHT
END:VTIMEZONE
END:VCALENDAR