BEGIN:VCALENDAR
VERSION:2.0
PRODID:-//wp-events-plugin.com//7.2.3.1//EN
TZID:Europe/Berlin
X-WR-TIMEZONE:Europe/Berlin
BEGIN:VEVENT
UID:454@radentscheidmuenchen.de
DTSTART;TZID=Europe/Berlin:20251127T190000
DTEND;TZID=Europe/Berlin:20251127T210000
DTSTAMP:20251121T155304Z
URL:https://www.radentscheidmuenchen.de/veranstaltungen/buergerversammlung
 -2025-ba-02-ludwigsvorstadt-isarvorstadt/
SUMMARY:Hingehen und abstimmen! Bürgerversammlung 2025 BA 02 Ludwigsvorsta
 dt-Isarvorstadt
DESCRIPTION:Die Stadt veröffentlicht hier die Schwerpunktthemen fast immer
  im Voraus.\n\n\n\nSchwerpunktthemen in 2025 werden voraussichtlich sein:\
 n1. Maßnahmen im südlichen Bahnhofsviertel und im Nussbaumpark – aktue
 ller Sachstand\n2. Möglichkeiten zur Begrünung in der Landwehrstraße bz
 w. im südlichen Bahnhofsviertel – aktueller Sachstand\n3. Planungen zur
  Umgestaltung des Holzplatzes und des Zenettiplatzes – aktueller Sachsta
 nd\n4. Stillgelegte bzw. nicht gestartete Baustellen – aktueller Sachsta
 nd - Möglichkeiten zur Beschleunigung und Sanktionierung\n5. Mobilitätsp
 unkte und Mikromobilitätsflächen (inkl. Geofencing) – aktueller Sachst
 and\n6. Sanierung der Ludwigs- und Wittelsbacherbrücke – aktueller Sach
 stand\n7. Umbau der Lindwurmstraße zur Verbesserung der Situation für Fu
 ß- und Radverkehr – Zeitplan und aktueller Sachstand\n\n\n\n&nbsp\;\nDi
 e städtische E-Mail-Einladung zu dieser Bürgerversammlung kommt immer ku
 rz davor – sie kann hier abonniert werden.  Hast Du auch eine Einladun
 g per Post bekommen?\nDie angenommenen Verkehrs-Anträge aus 2024 haben wi
 r hier gesammelt und ausgewertet.\n13 von 19 Anträgen insgesamt gingen um
  Mobilität und Verkehrsthemen – wiederum 85% davon nach unserer Rechnu
 ng sind für Verkehrssicherheit\, Verkehrsberuhigung\, und weniger Belast
 ung des öffentlichen Raums durch LKWs und Autos!  Weiter so!  Wir hoff
 en\, dass diese und andere Anträge als Vorlagen für Dich dienen können\
 , um die Bürgerbeteiligung zu stärken!\n\n&nbsp\;\n  \n\n\nE 02504\nKein
 e Duldung von Gehwegparkern\n\n\nE 02506\nBürgerinitiative Fahrrad-Schrot
 t\n\n\nE 02505\nBeleuchtung Durchgang Südfriedhof\n\n\nE 02501\nAmpel zum
  Sendlinger Tor\n\n\nE 02502\nAuswirkungen des Umbaus Lindwurmstraße auf 
 Nebenstraßen (Bitte um mehr Einbahnstraßen)\n\n\nE 02536\nSchutz Gehwegn
 ase vor sichtbehinderndem Parken\n\n\nE 02537\nSchutz Radabstellanlage vor
  Kfz-Parker*innen\n\n\nE 02538\nTempo 30 für Schwanthalerstraße\n\n\nE 0
 2535\nSchulwegsicherheit + Lieferzone am Gärtnerplatz\n\n\nE 02531\nNeuau
 srichtung Halteverbotschilder\n\n\nE 02532\nNeue Fußgänger Ampel Gleisü
 bergang\n\n\n\n&nbsp\;\n\nIn Oktober 2025 hat die Stadt die Ergebnisse der
  Haushaltsbefragung „Mobilität in Städten“ aus 2023 veröffentlicht 
 – jeder Bezirk hat eine eigene Grafik bekommen mit den Verkehrsmittelant
 eilen\, auch Modal Split benannt.  Fußverkehr und Radverkehr nehmen grun
 dsätzlich überall in München zu!\n\n&nbsp\;\n\nModal-Split Informatione
 n 2023 Seite 12 Stadtbezirk 2: Ludwigsvorstadt-Isarvorstadt\n\n&nbsp\;\n\n
 \n\nHier ist eine Übersicht aller beschlossenen Anträge auf allen Bürge
 rversammlungen der aktuellen Wahlperiode.\n\nHier kannst Du nach beschloss
 enen Anträgen auf den letzten Bürgerversammlungen Deines Bezirkes suchen
 .\n\n\n\n\n\n\n\n\n\n\n\n&nbsp\;
ATTACH;FMTTYPE=image/jpeg:https://www.radentscheidmuenchen.de/wp-content/u
 ploads/2025/07/2025-Buergerversammlung-Ludwigsvorstadt-Isarvorstadt.jpg
CATEGORIES:Bürgerbeteiligung,Bürgerversammlung,Öffentliche
 Veranstaltung,👉 Empfehlung (andere Veranstalter als REM)
LOCATION:Turnhalle Mathilde-Eller-Schule\, Corneliusstr. 17 a\, München\, 
 80469\, Deutschland
GEO:48.132199;11.57716
X-APPLE-STRUCTURED-LOCATION;VALUE=URI;X-ADDRESS=Corneliusstr. 17 a\, Münch
 en\, 80469\, Deutschland;X-APPLE-RADIUS=100;X-TITLE=Turnhalle Mathilde-Ell
 er-Schule:geo:48.132199,11.57716
END:VEVENT
BEGIN:VTIMEZONE
TZID:Europe/Berlin
X-LIC-LOCATION:Europe/Berlin
BEGIN:STANDARD
DTSTART:20251026T020000
TZOFFSETFROM:+0200
TZOFFSETTO:+0100
TZNAME:CET
END:STANDARD
END:VTIMEZONE
END:VCALENDAR