BEGIN:VCALENDAR
VERSION:2.0
PRODID:-//wp-events-plugin.com//7.2.3.1//EN
TZID:Europe/Berlin
X-WR-TIMEZONE:Europe/Berlin
BEGIN:VEVENT
UID:444@radentscheidmuenchen.de
DTSTART;TZID=Europe/Berlin:20251020T190000
DTEND;TZID=Europe/Berlin:20251020T210000
DTSTAMP:20251020T154733Z
URL:https://www.radentscheidmuenchen.de/veranstaltungen/buergerversammlung
 -2025-ba-03-maxvorstadt/
SUMMARY:Hingehen und abstimmen! Bürgerversammlung 2025 BA 03 Maxvorstadt
DESCRIPTION:Am 15. Oktober ging die E-Mail-Einladung der Stadt zur Bürgerv
 ersammlung Maxvorstadt raus - sie kann hier abonniert werden.  Eine Einla
 dung per Post müsstest Du auch bekommen haben - und jetzt von uns auch!\n
 \n2024 gab es 22 angenommene Anträge in der Bürgerversammlung. 14 davon 
 gingen um Verkehrsthemen\, und nach unserer Berechnung waren 100% davon f
 ür eine Mobilitätswende.  Was hältst Du von den Anträgen? Kannst Du s
 ie als Vorlage für dieses Jahr benutzen? Gibt es jetzt eine Fahrradabstel
 lanlage in der Nordendstraße 7?\n\n&nbsp\;\n\n\n\nE 02398\nEinrichtung ei
 ner neuen Tempo 30 Zone in der Theresienstraße zwischen Amalienstraße un
 d Türkenstraße\n\n\nE 02406\nKönigsplatz- Grünfläche nach der IAA wie
 der herstellen\n\n\nE 02407\nIAA Open Spaces\, Verkleinerung der maximalen
  Fläche\n\n\nE 02410\nEinführung von Tempolimits im Stadtteil Maxvorstad
 t\n\n\nE 02415\nAnzahl Spätis\, Müllverschmutzung\, Plastikbecher\, Glas
 scherben auf Straßen und Gehwegen\n\n\nE 02665\nKeine Vermietung öffentl
 icher Plätze an die IAA\n\n\nE 02395\nVerkehrssicherheit im Bereich Schel
 lingstraße / Türkenstraße\n\n\nE 02396\nVerkehrsberuhigung Schleißheim
 er Straße\n\n\nE 02399\nAnpassung der Straßenbreite Amalienstraße und T
 ürkenstraße (Autospuren reduzieren)\n\n\nE 02402\nParkregelung auf der T
 engstraße (Parken bitte auf die Parkbuchten beschränken)\n\n\nE 02408\nF
 alschparker (bitte ahnden)\n\n\nE 02409\nFahrradabstellung Nordendstraße 
 7\n\n\nE 02412\nBuslinienführung Linie 58\n\n\nE 02413\nBedarfsampel Dach
 auer Str. 98 (Bitte um Einrichtung)\n\n\n\n&nbsp\;\n\nDie Stadt veröffent
 licht immer die Tagesordnung im Voraus hier.\n\nSchwerpunktthemen 2025 wer
 den voraussichtlich sein:\n\n1. Größere Baumaßnahmen und Radwege im Sta
 dtbezirk – jeweils aktueller Sachstand\, Zeitschiene\n- Augustenstraße\
 n- Planungen Wettbewerb Odeonsplatz (und evtl. Brienner Straße)\n- U-Bahn
 höfe (insbes. Stiglmaierplatz\, ggf. weitere)\n-Oberfläche Altstadtring\
 n-Radwege/Altstadtring\n2. Gestaltung Grünanlagen/Plätze im Stadtbezirk 
 – jeweils aktueller Sachstand\, Zeitschiene\n- Neureutherplatz\n- Alter 
 Botanischen Garten\, Abschluss und Fortführung\n- Baumbepflanzungen bis 2
 029\n- Trinkbrunneneröffnungen\n- Toiletteneröffnungen\n3. Öffentlicher
  Raum – jeweils aktueller Sachstand\n- Spätis\, Freischankflächen und 
 Schanigärten\n- Vermeidung von Müllansammlungen\n- Baustellensicherheit 
 (Kontrollen bei privaten Bauvorhaben)\n- Schulwegsicherheit (neue Dialogdi
 splays)\n4. Größere Gebäudekomplexe und deren Zukunft – jeweils aktue
 ller Sachstand\, Zeitschiene\n- Diakonie in der Hessstraße\n- Strafjustiz
 zentrum\n- Bayerischer Rundfunk\n\nHier ist eine Übersicht aller beschlos
 senen Anträge auf allen Bürgerversammlungen der aktuellen Wahlperiode.\n
 \nHier kannst Du nach beschlossenen Anträgen auf den letzten Bürgerversa
 mmlungen Deines Bezirkes suchen.
ATTACH;FMTTYPE=image/jpeg:https://www.radentscheidmuenchen.de/wp-content/u
 ploads/2025/07/2025-Buergerversammlung-Maxvorstadt.jpg
CATEGORIES:Bürgerbeteiligung,Bürgerversammlung,Öffentliche
 Veranstaltung,👉 Empfehlung (andere Veranstalter als REM)
LOCATION:Evangelische Kirche St. Markus\, Gabelsbergerstraße 6\, München\
 , 80333\, Deutschland
GEO:48.146167;11.574381
X-APPLE-STRUCTURED-LOCATION;VALUE=URI;X-ADDRESS=Gabelsbergerstraße 6\, Mü
 nchen\, 80333\, Deutschland;X-APPLE-RADIUS=100;X-TITLE=Evangelische Kirche
  St. Markus:geo:48.146167,11.574381
END:VEVENT
BEGIN:VTIMEZONE
TZID:Europe/Berlin
X-LIC-LOCATION:Europe/Berlin
BEGIN:DAYLIGHT
DTSTART:20250330T030000
TZOFFSETFROM:+0100
TZOFFSETTO:+0200
TZNAME:CEST
END:DAYLIGHT
END:VTIMEZONE
END:VCALENDAR