BEGIN:VCALENDAR
VERSION:2.0
PRODID:-//wp-events-plugin.com//7.2.3.1//EN
TZID:Europe/Berlin
X-WR-TIMEZONE:Europe/Berlin
BEGIN:VEVENT
UID:451@radentscheidmuenchen.de
DTSTART;TZID=Europe/Berlin:20251120T190000
DTEND;TZID=Europe/Berlin:20251120T210000
DTSTAMP:20251119T165623Z
URL:https://www.radentscheidmuenchen.de/veranstaltungen/buergerversammlung
 -2025-ba-06-sendling/
SUMMARY:Mach mit! Bürgerversammlung 2025 BA 06 Sendling
DESCRIPTION:Die Stadt veröffentlicht hier die Schwerpunktthemen fast immer
  im Voraus.\n\nSchwerpunktthemen werden voraussichtlich sein:\n1. Sachstan
 d zum Neubau der Großmarkthalle München\n- Freiwerdende Flächen mit und
  ohne Neubau Großmarkthalle\n- aktueller Stand zum Gesamtkonzept\n- mögl
 icher Bebauungsplan\n- sukzessives Vorgehen beim Bau von Wohnungen und st
 ädtischer Infrastruktur\n2. Bauvorhaben Lindenschmitstraße 25 – aktuel
 ler Sachstand (Natur-/ Brandschutz)\n3. „Sendlinger Loch“ – aktuelle
 r Sachstand zu Baugenehmigung und Baubeginn\n4. Neubau Mehrgenerationenwoh
 nen in der Meindlstraße – aktueller Sachstand\n5. Neubauten in der Karw
 endelstraße und Plinganserstraße – Vermietungspraxis\n- Möglichkeiten
  für Bestandsmieter\n- Transparenz bei Vergabe über private Immobilienpo
 rtale\n6. Alternative Gestaltung zu Baumscheiben (mehr Grün/Schwammstadtp
 rinzip)\n7. Parkplätze in der Hans-Klein-Straße (Verbreiterung des Grün
 streifens\, Planung von Fahrradabstellplätzen) – aktueller Sachstand\n8
 . Verkehrsthemen im Stadtbezirk – jeweils aktueller Sachstand\n- Tempo-3
 0-Zonen an verkehrsreichen Straßen\n- (Pfeuferstraße/Baumgartnerstraße/
 Brudermühlstraße)\n- Radfahrstreifen in der Implerstraße\n- geteilte Ab
 stellflächen\n- E-Scooter Abstellflächen\n- städtisches Radverleihsyste
 m\n9. Sportplatzsanierungen in der Wackersberger Straße / Demleitnerstra
 ße\n- Dauer der aktuellen Sanierung und weitere Planungen\n10. Schulneuba
 uten in Sendling – aktueller Sachstand\n\n&nbsp\;\nDie städtische E-Mai
 l-Einladung zu dieser Bürgerversammlung kam am 14. November – sie kann 
 hier abonniert werden.  Hast Du auch eine Einladung per Post bekommen?\n
 Die angenommenen Verkehrs-Anträge aus 2024 haben wir hier gesammelt und a
 usgewertet.\n23 von 34 Anträgen insgesamt gingen um Mobilität und Verkeh
 rsthemen – wiederum 96% davon nach unserer Rechnung sind für Verkehrssi
 cherheit\, Verkehrsberuhigung\, und weniger Belastung des öffentlichen Ra
 ums durch LKWs und Autos!  Weiter so!  Wir hoffen\, dass diese und ander
 e Anträge als Vorlagen für Dich dienen können\, um die Bürgerbeteiligu
 ng zu stärken!\n  \n\n\nE 02479\nReduzierung des Durchgangsverkehrs in de
 r Aberlestraße\n\n\nE 02477\nZusätzlicher Anwohnerparkschein für den St
 adtbezirk\n\n\nE 02474\nAufhebung der Linksabbiegemöglichkeit der Bruderm
 ühlstraße in die Esswurmstraße\n\n\nE 02478\nRadfahrer frei am Gehweg R
 oter-Turm-Platz\n\n\nE 02472\nErrichtung von erhöhten Zebrastreifen zu Si
 cherung der Kreuzung Steinerstraße - Flößergasse - Tölzer Straße\n\n\
 nE 02489\nFußgängergrün an allen Ampeln am Harras verlängern\n\n\nE 02
 490\nRadweg Am Harras zur Meindlstraße für gegenläufigen Fahrradverkehr
  zulassen\n\n\nE 02462\nOptimierung der Ampelschaltung Albert-Roßhaupter-
 Straße / Plinganserstraße\n\n\nE 02475\nMiles Transporter und Carsharing
  Fahrzeuge im Stadtbezirk\n\n\nE 02476\nMiles-Transporter am Wertstoffhof 
 Thalkirchen\n\n\nE 02465\nHalteverbot an der Ecke Meindlstraße/Margarethe
 nplatz\n\n\nE 02466\nFahrradparkhaus für den Neubau des Südbahnhof\n\n\n
 E 02467\nParklizenzgebiet Mittersendling jetzt!\n\n\nE 02468\nAusweitung d
 es Parklizenzgebiets Brudermühlstraße\n\n\nE 02473\nVerkehrssicherheit S
 chul- und Kitaweg in der Zechstraße\n\n\nE 02464\nTempo 30 in der Bruderm
 ühlstraße zwischen Implerstraße und Schäftlarnstraße\n\n\nE 02471\nEr
 höhte Verkehrskontrollen in Tempo-30-Zonen\n\n\nE 02480\nSchwerpunktmäß
 ige Verkehrskontrollen in der Aberlestraße und Lindenschmitstraße\n\n\nE
  02460\nFortführung des Fahrradwegs ab Am Isarkanal\n\n\nE 02481\nVerstä
 rkte Verkehrskontrollen durch die Polizei\n\n\nE 02485\nVerstärkte Verkeh
 rskontrollen zu Falschparkern\n\n\nE 02463\nTempo 30 in der Brudermühlstr
 aße zwischen Implerstraße und Schäftlarnstraße\n\n\n\n&nbsp\;\n\nIn Ok
 tober 2025 hat die Stadt die Ergebnisse der Haushaltsbefragung „Mobilit
 ät in Städten“ aus 2023 veröffentlicht – jeder Bezirk hat eine eige
 ne Grafik bekommen mit den Verkehrsmittelanteilen\, auch Modal Split benan
 nt.  Fußverkehr und Radverkehr nehmen grundsätzlich überall in Münche
 n zu!\n\nModal-Split Informationen 2023 Seite 16 Stadtbezirk 6: Sendling\n
 \n&nbsp\;\n\n\n\n&nbsp\;\n\n&nbsp\;\n\n&nbsp\;\n\nHier ist eine Übersicht
  aller beschlossenen Anträge auf allen Bürgerversammlungen der aktuellen
  Wahlperiode.\n\nHier kannst Du nach beschlossenen Anträgen auf den letzt
 en Bürgerversammlungen Deines Bezirkes suchen.\n\n&nbsp\;
ATTACH;FMTTYPE=image/jpeg:https://www.radentscheidmuenchen.de/wp-content/u
 ploads/2025/07/2025-Buergerversammlung-Sendling.png
CATEGORIES:Bürgerbeteiligung,Bürgerversammlung,Öffentliche
 Veranstaltung,👉 Empfehlung (andere Veranstalter als REM)
LOCATION:Dreifachhalle der Städtischen Berufsschule für den Einzelhandel 
 Mitte Lindwurmstraße 90\, Lindwurmstraße 90\, München\, Deutschland
X-APPLE-STRUCTURED-LOCATION;VALUE=URI;X-ADDRESS=Lindwurmstraße 90\, Münch
 en\, Deutschland;X-APPLE-RADIUS=100;X-TITLE=Dreifachhalle der Städtischen
  Berufsschule für den Einzelhandel Mitte Lindwurmstraße 90:geo:0,0
END:VEVENT
BEGIN:VTIMEZONE
TZID:Europe/Berlin
X-LIC-LOCATION:Europe/Berlin
BEGIN:STANDARD
DTSTART:20251026T020000
TZOFFSETFROM:+0200
TZOFFSETTO:+0100
TZNAME:CET
END:STANDARD
END:VTIMEZONE
END:VCALENDAR