BEGIN:VCALENDAR
VERSION:2.0
PRODID:-//wp-events-plugin.com//7.2.3.1//EN
TZID:Europe/Berlin
X-WR-TIMEZONE:Europe/Berlin
BEGIN:VEVENT
UID:452@radentscheidmuenchen.de
DTSTART;TZID=Europe/Berlin:20251124T190000
DTEND;TZID=Europe/Berlin:20251124T210000
DTSTAMP:20251121T161417Z
URL:https://www.radentscheidmuenchen.de/veranstaltungen/buergerversammlung
 -2025-ba-09-neuhausen-nymphenburg/
SUMMARY:Beteilige Dich! Bürgerversammlung 2025 BA 09 Neuhausen-Nymphenburg
DESCRIPTION:Die Stadt veröffentlicht hier die Schwerpunktthemen fast immer
  im Voraus.\n\nSchwerpunktthemen 2025 werden voraussichtlich sein:\n1. Tra
 m-Westtangente\, Sperrung Wotanstraße und Umleitungsstrecken – aktuelle
 r Sachstand\n2. Maßnahmen durch die Verkehrsüberwachung beim Beparken de
 r Gehwege und bei Geschwindigkeitsüberschreitungen – aktueller Sachstan
 d\n3. Paketposthalle – jeweils aktueller Sachstand\n- mögliche Zwischen
 nutzungen\n- Lärm und Parksituation bei Veranstaltungen\n4. Gelbe Tonne d
 es AWM\n- Zeitrahmen der Umstellung\, geplante Sammelbehältnisse und Leer
 ungsintervalle\n5. Jugendcontainer am Hirschgartenparkplatz – aktueller 
 Sachstand\n- Lärm und Verschmutzungssituation\n6. Alten- und Servicezentr
 um in der Arnulfstraße – aktuelle Planungen und Sachstand\n7. Kreativla
 bor – Aktueller Sachstand zur Entwicklung des Geländes\n8. Schulbauprog
 ramm – aktueller Sachstand\n- Sanierung des Käthe-Kollwitz-Gymnasiums u
 nd der Grundschulen an der Hirschbergstraße und am Winthirplatz\n- Zeitpl
 an Umzug Dom-Pedro-Grundschule in das Gebäude der Rudolf-Diesel Realschul
 e\nDie städtische E-Mail-Einladung zu dieser Bürgerversammlung kommt bal
 d – sie kann hier abonniert werden.  Hast Du auch eine Einladung per P
 ost bekommen?\nDie angenommenen Verkehrs-Anträge aus 2024 haben wir hier 
 gesammelt und ausgewertet.\n23 von 33 Anträgen insgesamt gingen um Mobili
 tät und Verkehrsthemen – wiederum 96% davon nach unserer Rechnung sind 
 für Verkehrssicherheit\, Verkehrsberuhigung\, und weniger Belastung des 
 öffentlichen Raums durch LKWs und Autos!  Weiter so!  Wir hoffen\, dass
  diese und andere Anträge als Vorlagen für Dich dienen können\, um die 
 Bürgerbeteiligung zu stärken!\n  \n\n\nE 02374\nInfos zur Baustelle der 
 Tram-Westtangente zwischen Romanplatz und Laimer Röhre\n\n\nE 02380\nAnbr
 ingung von Pollern zum Lily-Braun-Weg\n\n\nE 02382\nVeränderung Südliche
  und Nördliche Auffahrtsallee durch Baumaßnahmen zur Einhaltung von Temp
 o 30\n\n\nE 02387\nUmgestaltung des Leonrodplatzes\n\n\nE 02375\nTempo-30-
 Zone in der Leonrodstraße\n\n\nE 02381\nMangelhafte Straßenreinigung sow
 ie alsbaldige Entfernung des Laubes in der Hedwig-Dransfeld-Allee\n\n\nE 0
 2369\nMaßnahmen zur Erhöhung der Verkehrssicherheit für Fahrradfahrer i
 n der De-la-Paz-Straße\n\n\nE 02367\nTempo 30 in der Wendl-Dietrich-Stra
 ße und Ausweitung zum Rotkreuzplatz\n\n\nE 02371\nWartehäuschen an Tramb
 ahnhaltestelle "Olympiapark West"\n\n\nE 02372\nGestaltung Radverkehr in d
 er Hippmannstraße\n\n\nE 02373\nAusstattung aller Bushaltestellen mit Sit
 zgelegenheiten\n\n\nE 02368\nErgänzung Verkehrsschilder mit Zusatz „Car
 sharing“ in der Winthir- und Renatastraße\n\n\nE 02376\nVerkehrssicherh
 eitsmaßnahmen zur Reduzierung von Unfällen an der Kreuzung Jutastraße/H
 edwigstraße\n\n\nE 02355\nSchulwegsicherung für die Dom-Pedro-Grundschul
 e\n\n\nE 02356\nÖffentliche Toiletten an allen ÖPNV-Knotenpunkten\n\n\nE
  02378\nEinrichtung eines Zwei-Richtungs-Radweges und Querungsmöglichkeit
  für Fahrräder von großen Kreuzungen\n\n\nE 02383\nUmwandlung der Alfon
 sstraße in Anwohnerparkbereich\n\n\nE 02384\nSchaffung eines sicheren Rad
 wegs unter der Donnersbergerbrücke\n\n\nE 02393\nRegulierung Parksituatio
 n Südliche Auffahrtsallee mittels Parklizenzgebiet\n\n\nE 02391\nMaßnahm
 en gegen Falschparker in der Schluder- und der Pötschnerstraße\n\n\nE 02
 392\nStraßenentwicklung in der Romanstraße\n\n\nE 02370\nHinweis auf Ein
 bahnstraßenregelung der Weiglstraße mittels Bodenmarkierung\n\n\nE 02366
 \nEntlastung der Parksituation in der Aiblingerstraße\n\n\n\nIn Oktober 2
 025 hat die Stadt die Ergebnisse der Haushaltsbefragung „Mobilität in S
 tädten“ aus 2023 veröffentlicht – jeder Bezirk hat eine eigene Grafi
 k bekommen mit den Verkehrsmittelanteilen\, auch Modal Split benannt.  Fu
 ßverkehr und Radverkehr nehmen grundsätzlich überall in München zu!\n\
 nModal-Split Informationen 2023 Seite 19 Stadtbezirk 9: Neuhausen-Nymphenb
 urg\n\n\n\n&nbsp\;\n\nHier ist eine Übersicht aller beschlossenen Anträg
 e auf allen Bürgerversammlungen der aktuellen Wahlperiode.\n\nHier kannst
  Du nach beschlossenen Anträgen auf den letzten Bürgerversammlungen Dein
 es Bezirkes suchen.
ATTACH;FMTTYPE=image/jpeg:https://www.radentscheidmuenchen.de/wp-content/u
 ploads/2025/07/2025-Buergerversammlung-Neuhausen-Nymphenburg.jpg
CATEGORIES:Bürgerbeteiligung,Bürgerversammlung,Öffentliche
 Veranstaltung,👉 Empfehlung (andere Veranstalter als REM)
LOCATION:Dreifachsporthalle Adolf-Weber-Gymnasium\, Kapschstraße 4\, Münc
 hen\, Deutschland
GEO:48.153483;11.54306
X-APPLE-STRUCTURED-LOCATION;VALUE=URI;X-ADDRESS=Kapschstraße 4\, München\
 , Deutschland;X-APPLE-RADIUS=100;X-TITLE=Dreifachsporthalle Adolf-Weber-Gy
 mnasium:geo:48.153483,11.54306
END:VEVENT
BEGIN:VTIMEZONE
TZID:Europe/Berlin
X-LIC-LOCATION:Europe/Berlin
BEGIN:STANDARD
DTSTART:20251026T020000
TZOFFSETFROM:+0200
TZOFFSETTO:+0100
TZNAME:CET
END:STANDARD
END:VTIMEZONE
END:VCALENDAR