BEGIN:VCALENDAR
VERSION:2.0
PRODID:-//wp-events-plugin.com//7.2.3.1//EN
TZID:Europe/Berlin
X-WR-TIMEZONE:Europe/Berlin
BEGIN:VEVENT
UID:443@radentscheidmuenchen.de
DTSTART;TZID=Europe/Berlin:20251016T190000
DTEND;TZID=Europe/Berlin:20251016T210000
DTSTAMP:20251015T213059Z
URL:https://www.radentscheidmuenchen.de/veranstaltungen/buergerversammlung
 -2025-ba-10-moosach/
SUMMARY:Beteilige Dich! Bürgerversammlung 2025 BA 10 Moosach
DESCRIPTION:Eine kurze Analyse der angenommenen Anträge aus 2024 zeigt das
 s mehr als die Hälfte\, 15 von 27\, mit Verkehrsthemen zu tun hatten\, un
 d davon waren 11 Anträge für besseren ÖPNV\, Rad- und Fußverkehr.  Un
 ten haben wir alle Verkehrs-Anträge aus 2024 verlinkt.\n\n\n\nE 02262\nEn
 tziehung aller Konzessionen zum Verleih von E-Rollern (Neuantrag zu BV-Emp
 f. Nr. E 01005)\n\n\nE 02261\nVerkehrskonzept für Feldmochinger Straße\n
 \n\nE 02264\nBordsteinabsenkungen für Fahrradwege\n\n\nE 02265\nEinrichtu
 ng eines Zebrastreifens oder einer Fußgängerampel im Bereich des Spielpl
 atzes in der Untermenzinger Straße\n\n\nE 02267\nUmwandlung der Andernach
 er Straße in eine Einbahnstraße\n\n\nE 02268\nNeuasphaltierung der Fahrb
 ahndecken in der Scharnhorststraße und in der Quedlinburger Straße sowie
  Bordsteinabsenkung am Fußweg zwischen Hanauer Straße und Scharnhorststr
 aße als Verbesserung für Fahrradfahrer\n\n\nE 02270\nSchutz der Fußgän
 ger beim Betreten eines Gehwegs durch Markierung\n\n\nE 02272\nErrichtung 
 von Parksperren im Halteverbot bei OEZ-Parkplatzausfahrten\n\n\nE 02273\nL
 KW-Überwachung an neuer S-Bahnunterführung Dachauer Straße\n\n\nE 02279
 \nBessere Verkehrsanbindung des neuen Gymnasiums Karlsfeld (Busse bitte)\n
 \n\nE 02290\nBegrenzung der Parkzeit auf dem Parkstreifen an der Allacher 
 Straße\n\n\nE 02299\nJährlicher Rückschnitt am Fuß- und Fahrradweg in 
 der Jakob-Hagenbucher-Straße\n\n\nE 02263\nÜberprüfung Ampelschaltung i
 n der Allacher Straße\n\n\nE 02275\nVerkehrsregelung in der Allacher Stra
 ße\n\n\nE 02277\nPrüfung von verkehrsrechtlichen Maßnahmen gegen die Zu
 stände in der Donauwörther Straße\n\n\n\nNeue Mobilitätszahlen und Ver
 kehrsmittelanteile sind Oktober 2024 dem Stadtrat präsentiert worden - na
 ch Bezirk für München heruntergebrochen\, hier die Zahlen für Moosach. 
 Vielleicht für Argumente nützlich!\n\nSchwerpunktthemen 2025 werden vora
 ussichtlich sein:\n1. Bau\, Umwelt\, Klima und Wirtschaft – jeweils aktu
 eller Sachstand\n- Sanierungsgebiet Moosach (Siedlungen westlich der Dacha
 uer Straße\, Westfriedhof\, Moosacher St.-Martins-Platz)\n- Timber Factor
 y\, Baubergerstraße (ehem. Fa. Ascherl)\n- 175 Jahre Meiller Kipper (Gär
 ten\, Hochhaus\, weitere Pläne)\n- 24h-Läden\, Dachauer Straße (Rechtsg
 rundlage\, Konflikte)\n2. Verkehr – jeweils aktueller Sachstand\n- Eisen
 bahnunterführung Dachauer Straße\n- Parklizenzgebiet „Rund um den Seyd
 litzplatz“ (Erweiterungen)\n- Parklizenzgebiet Borstei (Besucher SAP-Gar
 den)\n3. Schule\, Jugend\, Soziales\, Kultur und Budget – jeweils aktuel
 ler Sachstand\n- Realschule\, Franz-Mader-Straße\n- Schulzentrum an der G
 erastraße\n- Nachbarschaftstreffs Karlingerstraße und Untermenzinger Str
 aße\n\nDie Stadt München veröffentlicht immer die Schwerpunktthemen hie
 r im Voraus.\n\nHier ist eine Übersicht aller beschlossenen Anträge auf 
 allen Bürgerversammlungen der aktuellen Wahlperiode.\n\nHier kannst Du na
 ch beschlossenen Anträgen auf den letzten Bürgerversammlungen Deines Bez
 irkes suchen.
ATTACH;FMTTYPE=image/jpeg:https://www.radentscheidmuenchen.de/wp-content/u
 ploads/2025/07/2025-Buergerversammlung-Moosach.jpg
CATEGORIES:Bürgerbeteiligung,Bürgerversammlung,Öffentliche
 Veranstaltung,👉 Empfehlung (andere Veranstalter als REM)
LOCATION:Aula des Schulzentrums\, Gerastraße 6 \, München\, 80993 \, Deut
 schland
X-APPLE-STRUCTURED-LOCATION;VALUE=URI;X-ADDRESS=Gerastraße 6 \, München\,
  80993 \, Deutschland;X-APPLE-RADIUS=100;X-TITLE=Aula des Schulzentrums:ge
 o:0,0
END:VEVENT
BEGIN:VTIMEZONE
TZID:Europe/Berlin
X-LIC-LOCATION:Europe/Berlin
BEGIN:DAYLIGHT
DTSTART:20250330T030000
TZOFFSETFROM:+0100
TZOFFSETTO:+0200
TZNAME:CEST
END:DAYLIGHT
END:VTIMEZONE
END:VCALENDAR