BEGIN:VCALENDAR
VERSION:2.0
PRODID:-//wp-events-plugin.com//7.2.3.1//EN
TZID:Europe/Berlin
X-WR-TIMEZONE:Europe/Berlin
BEGIN:VEVENT
UID:448@radentscheidmuenchen.de
DTSTART;TZID=Europe/Berlin:20251029T190000
DTEND;TZID=Europe/Berlin:20251029T210000
DTSTAMP:20251028T171909Z
URL:https://www.radentscheidmuenchen.de/veranstaltungen/buergerversammlung
 -2025-ba-19-thalkirchen-obersendling-forstenried-fuerstenried-solln/
SUMMARY:Mach mit! Bürgerversammlung 2025 BA 19 Thalkirchen-Obersendling-Fo
 rstenried-Fürstenried-Solln
DESCRIPTION:Die Stadt veröffentlicht immer die Tagesordnung im Voraus hier
 .\n\nSchwerpunktthemen 2025 werden voraussichtlich sein:\n1.Tram Westtange
 nte – aktueller Sachstand\n2.Große Bauvorhaben und Bauprojekte im Stadt
 bezirk – jeweils aktueller Sachstand\, Zeitschiene\n- Sektorialer Bebauu
 ngsplan Engadiner Straße 2\n- Hochhaus Baierbrunner Straße/ehemaliges Si
 emens-Areal\n- Machtlfinger Straße\n- Rupert-Mayer-Straße\n- Am Isarkana
 l\n3.Sanierungen und Neubauten von Schulen im Stadtbezirk – aktueller Sa
 chstand\, Zeitschiene\n4.Herrmann-von-Siemens-Sportpark – aktueller Sach
 stand\n5.Shared Mobility: Car-Sharing und E-Tretroller – aktueller Sachs
 tand 6.Situation um die Wertstoffinseln – aktueller Sachstand\n7.Neubau 
 Bad in Forstenried – aktueller Sachstand\, Zeitschiene\nBald geht die st
 ädtische E-Mail-Einladung zu dieser Bürgerversammlung raus – sie kann 
 hier abonniert werden.  Hast Du auch eine Einladung per Post bekommen?\n
 Die angenommenen Verkehrs-Anträge aus 2024 haben wir hier gesammelt und a
 usgewertet.\n11 von 26 Anträgen insgesamt gingen um Mobilität und Verkeh
 rsthemen - wiederum 91% davon nach unserer Rechnung sind für Verkehrssich
 erheit\, Verkehrsberuhigung\, und weniger Belastung des öffentlichen Raum
 s durch LKWs und Autos! 🎉 Weiter so!  Wir hoffen\, dass diese und ande
 re Anträge als Vorlagen für Dich dienen können\, um die Bürgerbeteilig
 ung zu stärken!\n\n  \n\n\nE 02296\nEinführung einer speziellen Parklize
 nz für Wohnwagen\, Wohnmobile\, Segelboote und etc. die in den Wohngebiet
 en geparkt werden\n\n\nE 02301\nTempo-30-Zone im gesamten Verlauf der Fors
 tenrieder Allee erneuern bzw. bekräftigen\n\n\nE 02303\nFehlender Aufzug 
 an der U-Bahn Obersendling\n\n\nE 02304\nBenutzung der Parkbuchten an der 
 Graubündner Str. nur für PKW erlauben\n\n\nE 02305\nParkraummangel an de
 r Forsten-Kasten-Allee entlang des Waldfriedhofs\n\n\nE 02306\nVerkehrssic
 herheit im Bereich des Rewe-Marktes in der Züricher Str. 92\n\n\nE 02307\
 nVerbesserung der Verkehrssicherheit in der Höglwörther Straße im Berei
 ch des Südparkgeländes\; Einführung von Tempo 30 km/h sowie Errichtung 
 von zwei Ampeln oder Zebrastreifen\n\n\nE 02308\nLärmschutzmaßnahmen Gar
 mischer Autobahn (A95)\n\n\nE 02309\nTempo 30 als Lärmschutzmaßnahme fü
 r die Wolfratshauser Strasse\n\n\nE 02310\nBusbetrieb 134 auf 10-Minutenta
 kt umstellen\n\n\n\n&nbsp\;\n\nIn Oktober 2025 hat die Stadt die Ergebniss
 e der Haushaltsbefragung „Mobilität in Städten“ aus 2023 veröffentl
 icht - jeder Bezirk hat eine eigene Grafik bekommen mit den Verkehrsmittel
 anteilen\, auch Modal Split benannt.  Fußverkehr und Radverkehr nehmen g
 rundsätzlich überall in München zu!\n\nModal-Split Informationen 2023 S
 eite 29 Stadtbezirk 19: Thalkirchen-Obersendling-Forstenried-Fürstenried-
 Solln\n\n\n\nHier ist eine Übersicht aller beschlossenen Anträge auf all
 en Bürgerversammlungen der aktuellen Wahlperiode.\n\nHier kannst Du nach 
 beschlossenen Anträgen auf den letzten Bürgerversammlungen Deines Bezirk
 es suchen.
ATTACH;FMTTYPE=image/jpeg:https://www.radentscheidmuenchen.de/wp-content/u
 ploads/2025/07/2025-Buergerversammlung-Thalkirchen-Obersendling-Fuerstenri
 ed-Forstenried-Solln.png
CATEGORIES:Bürgerbeteiligung,Bürgerversammlung,Öffentliche
 Veranstaltung,👉 Empfehlung (andere Veranstalter als REM)
LOCATION:Dreifach-Sporthalle\, Engadiner Straße 1\, München\, 81475\, Deu
 tschland
X-APPLE-STRUCTURED-LOCATION;VALUE=URI;X-ADDRESS=Engadiner Straße 1\, Münc
 hen\, 81475\, Deutschland;X-APPLE-RADIUS=100;X-TITLE=Dreifach-Sporthalle:g
 eo:0,0
END:VEVENT
BEGIN:VTIMEZONE
TZID:Europe/Berlin
X-LIC-LOCATION:Europe/Berlin
BEGIN:STANDARD
DTSTART:20251026T020000
TZOFFSETFROM:+0200
TZOFFSETTO:+0100
TZNAME:CET
END:STANDARD
END:VTIMEZONE
END:VCALENDAR