BEGIN:VCALENDAR
VERSION:2.0
PRODID:-//wp-events-plugin.com//7.2.3.1//EN
TZID:Europe/Berlin
X-WR-TIMEZONE:Europe/Berlin
BEGIN:VEVENT
UID:450@radentscheidmuenchen.de
DTSTART;TZID=Europe/Berlin:20251119T190000
DTEND;TZID=Europe/Berlin:20251119T210000
DTSTAMP:20251118T171451Z
URL:https://www.radentscheidmuenchen.de/veranstaltungen/buergerversammlung
 -2025-ba-24-feldmoching-hasenbergl/
SUMMARY:Hingehen und abstimmen! Bürgerversammlung 2025 BA 24 Feldmoching-H
 asenbergl
DESCRIPTION:Die Stadt veröffentlicht hier die Schwerpunktthemen fast immer
  im Voraus.\n\nSchwerpunktthemen 2025 in Feldmoching-Hasenbergl werden vor
 aussichtlich sein:\n1. Ideenwerkstatt Münchner Norden – aktueller Sachs
 tand\n2. Neubaugebiete im Stadtbezirk – aktueller Sachstand\n- Hochmutti
 nger Straße\n- Rahein-/Ratold-Straße\n- Lerchenauer Feld\n- Eggarten Sie
 dlung\n- Siedlung Ludwigsfeld\n- Dülferstraße\n3. Fortschreibung Verkehr
 skonzept München Nord – aktueller Sachstand\n4. Schulbauprogramm – ak
 tueller Sachstand\n- Willy-Brandt-Gesamtschule\n- Eduard-Spranger-Schule\n
 - Erich-Kästner-Realschule\n- Schulcampus Lerchenauer Feld\n5. Stadtbezir
 ksbudget - Bericht\nDie städtische E-Mail-Einladung zu dieser Bürgervers
 ammlung ist am 14. November angekommen – sie kann hier abonniert werden
 .  Hast Du auch eine Einladung per Post bekommen?\nDie angenommenen Verke
 hrs-Anträge aus 2024 haben wir hier gesammelt und ausgewertet.\n9 von 33 
 Anträgen insgesamt gingen um Mobilität und Verkehrsthemen – wiederum 8
 9% davon nach unserer Rechnung sind für Verkehrssicherheit\, Verkehrsberu
 higung\, und weniger Belastung des öffentlichen Raums durch LKWs und Auto
 s!  Weiter so!  Wir hoffen\, dass diese und andere Anträge als Vorlagen
  für Dich dienen können\, um die Bürgerbeteiligung zu stärken!\n  \n\n
 \nE 02432\nAmpelabschaltung mittels KI\n\n\nE 02418\n(Anbringung eines) Ze
 brastreifen(s) auf der Josef-Frankl-Straße\n\n\nE 02416\nErweiterung der 
 Buslinien von und nach Karlsfeld um eine Station\n\n\nE 02424\nBusverbindu
 ng Fasanerie zum Gymnasium Feldmoching\n\n\nE 02430\nGefahrenreduzierung d
 urch verkehrsberuhigende Maßnahmen und Verkehrsüberwachung an der Lerche
 nauer Straße\, Ecke Irisstraße\n\n\nE 02493\nFünf schnelle Verbesserung
 en: Offizielle Akzeptanz des Fußwegs an Bushaltestelle "Franz-Sperr-Weg"\
 n\n\nE 02497\nFünf schnelle Verbesserungen: Forderung nach Entschärfung 
 der Gefahrenkurve Lerchenauer-Str (Einfahrt alter Teil).\n\n\nE 02494\nFü
 nf schnelle Verbesserungen: Forderung nach Hinweisschildern "Motor aus" vo
 r Bahnübergängen\n\n\n\n&nbsp\;\n\nIn Oktober 2025 hat die Stadt die Erg
 ebnisse der Haushaltsbefragung „Mobilität in Städten“ aus 2023 verö
 ffentlicht – jeder Bezirk hat eine eigene Grafik bekommen mit den Verkeh
 rsmittelanteilen\, auch Modal Split benannt.  Fußverkehr und Radverkehr 
 nehmen grundsätzlich überall in München zu!\n\nModal-Split Informatione
 n 2023 Seite 34 Stadtbezirk 24: Feldmoching-Hasenbergl\n\n&nbsp\;\n\n\n\n&
 nbsp\;\n\nHier ist eine Übersicht aller beschlossenen Anträge auf allen 
 Bürgerversammlungen der aktuellen Wahlperiode.\n\nHier kannst Du nach bes
 chlossenen Anträgen auf den letzten Bürgerversammlungen Deines Bezirkes 
 suchen.\n\n\n\n\n\n\n\n\n
ATTACH;FMTTYPE=image/jpeg:https://www.radentscheidmuenchen.de/wp-content/u
 ploads/2025/07/2025-Buergerversammlung-Feldmoching-Hasenbergl.jpg
CATEGORIES:Bürgerbeteiligung,Bürgerversammlung,Öffentliche
 Veranstaltung,👉 Empfehlung (andere Veranstalter als REM)
LOCATION:Mehrzweckhalle An der Georg-Zech-Allee 15-17\, An der Georg-Zech-A
 llee 15-17\, München\, 80995\, Deutschland
GEO:48.208411;11.530837
X-APPLE-STRUCTURED-LOCATION;VALUE=URI;X-ADDRESS=An der Georg-Zech-Allee 15-
 17\, München\, 80995\, Deutschland;X-APPLE-RADIUS=100;X-TITLE=Mehrzweckha
 lle An der Georg-Zech-Allee 15-17:geo:48.208411,11.530837
END:VEVENT
BEGIN:VTIMEZONE
TZID:Europe/Berlin
X-LIC-LOCATION:Europe/Berlin
BEGIN:STANDARD
DTSTART:20251026T020000
TZOFFSETFROM:+0200
TZOFFSETTO:+0100
TZNAME:CET
END:STANDARD
END:VTIMEZONE
END:VCALENDAR