BEGIN:VCALENDAR
VERSION:2.0
PRODID:-//wp-events-plugin.com//7.2.3.1//EN
TZID:Europe/Berlin
X-WR-TIMEZONE:Europe/Berlin
BEGIN:VEVENT
UID:453@radentscheidmuenchen.de
DTSTART;TZID=Europe/Berlin:20251125T190000
DTEND;TZID=Europe/Berlin:20251125T210000
DTSTAMP:20251121T162348Z
URL:https://www.radentscheidmuenchen.de/veranstaltungen/buergerversammlung
 -2025-ba-25-laim/
SUMMARY:Hingehen und abstimmen! Bürgerversammlung 2025 BA 25 Laim
DESCRIPTION:Die Stadt veröffentlicht hier die Schwerpunktthemen fast immer
  im Voraus.\n\n\nSchwerpunktthemen in Laim 2025 werden voraussichtlich sei
 n:\n1. Baumaßnahme Westtangente Bereich Laim – aktueller Sachstand\n2. 
 Verzögerung der Oberflächengestaltung U-Bahn Gotthardstraße – aktuell
 er Sachstand\n3. Sicherstellung des Busverkehrs in Laim während der Bauma
 ßnahmen/ Planungen zum Fahrplan nach Fertigstellung – aktueller Sachsta
 nd\n4. Maßnahmen durch die Verkehrsüberwachung beim Beparken der Gehwege
  – aktueller Sachstand\n5. Abgestellte Fahrräder in der Laimer Unterfü
 hrung\, überfüllte Fahrradständer – aktueller Sachstand\n6. Entwicklu
 ng des Bereiches um das alte Straßenbahndepot an der Westendstraße mit S
 chulneubau\n\n\nDie städtische E-Mail-Einladung zu dieser Bürgerversamml
 ung kommt immer kurz davor – sie kann hier abonniert werden.  Hast Du 
 auch eine Einladung per Post bekommen?\n\nDie angenommenen Verkehrs-Anträ
 ge aus 2024 haben wir hier gesammelt und ausgewertet.\n\nNach unserer Wert
 ung behandelten 7 von 22 Anträgen in 2024 Verkehrsthemen und alle 7 waren
  eher für sicheres Gehen und Radeln. Diejenigen sind hier aufgelistet\, d
 amit sie als Beispiele für zukünftige Anträge dienen können. Die Bewoh
 ner des Bezirkes haben 2024 schon 2x explizit beantragt\, dass das Gehwegp
 arken geahndet und reduziert wird.\n\n&nbsp\;\n  \n\n\nE 02517\nGehwegpark
 en in der Agricolastraße ahnden\n\n\nE 02519\nBahnhof Laim: Lösung für 
 mobilitätseingeschränkte Personen schaffen\n\n\nE 02516\nGehwegparken re
 duzieren\n\n\nE 02515\nAnwohnerparkplätze in der Valpichlerstraße oder w
 enigstens Beschränkung für Parken nur für Pkws\n\n\nE 02521\nAnwohnerpa
 rklizenzgebiet im Stadtbezirk Laim (Antrag c)\n\n\nE 02520\nAgricolastraß
 e\; -Vorortbegehung in der Agricolastraße wegen Parksituation (Antrag a)\
 ; -Gehwegparken in der Agricolastraße ahnden (Antrag b)\n\n\nE 02525\nSpe
 rrfläche im Kurvenbereich Schrobenhausener Straße / Ilse-Weber-Straße w
 egen Schulbussen und Feuerwehr\n\n\n\n\n\nIn Oktober 2025 hat die Stadt di
 e Ergebnisse der Haushaltsbefragung „Mobilität in Städten“ aus 2023 
 veröffentlicht – jeder Bezirk hat eine eigene Grafik bekommen mit den V
 erkehrsmittelanteilen\, auch Modal Split benannt.  Fußverkehr und Radver
 kehr nehmen grundsätzlich überall in München zu!\n\nModal-Split Informa
 tionen 2023 Seite 35 Stadtbezirk 25: Laim\n\n\n\nHier ist eine Übersicht 
 aller beschlossenen Anträge auf allen Bürgerversammlungen der aktuellen 
 Wahlperiode.\n\n\nHier kannst Du nach beschlossenen Anträgen auf den letz
 ten Bürgerversammlungen Deines Bezirkes suchen.\n\n&nbsp\;\n\n&nbsp\;\n\n
 &nbsp\;
ATTACH;FMTTYPE=image/jpeg:https://www.radentscheidmuenchen.de/wp-content/u
 ploads/2025/07/2025-Buergerversammlung-Laim.jpg
CATEGORIES:Bürgerbeteiligung,Bürgerversammlung,Öffentliche
 Veranstaltung,👉 Empfehlung (andere Veranstalter als REM)
LOCATION:Dreifachturnhalle Schrobenhausener Straße 17\, Schrobenhausener S
 traße 17\, München\, 80686\, Deutschland
GEO:48.136267;11.512495
X-APPLE-STRUCTURED-LOCATION;VALUE=URI;X-ADDRESS=Schrobenhausener Straße 17
 \, München\, 80686\, Deutschland;X-APPLE-RADIUS=100;X-TITLE=Dreifachturnh
 alle Schrobenhausener Straße 17:geo:48.136267,11.512495
END:VEVENT
BEGIN:VTIMEZONE
TZID:Europe/Berlin
X-LIC-LOCATION:Europe/Berlin
BEGIN:STANDARD
DTSTART:20251026T020000
TZOFFSETFROM:+0200
TZOFFSETTO:+0100
TZNAME:CET
END:STANDARD
END:VTIMEZONE
END:VCALENDAR