BEGIN:VCALENDAR
VERSION:2.0
PRODID:-//wp-events-plugin.com//7.2.3.1//EN
TZID:Europe/Berlin
X-WR-TIMEZONE:Europe/Berlin
BEGIN:VEVENT
UID:564@radentscheidmuenchen.de
DTSTART;TZID=Europe/Berlin:20270217T190000
DTEND;TZID=Europe/Berlin:20270217T210000
DTSTAMP:20260309T163622Z
URL:https://www.radentscheidmuenchen.de/veranstaltungen/radlvorrang-treffe
 n-munichways-2-2-2026-03-18-2026-04-15-2026-05-20-2026-06-17-2026-07-15-20
 26-08-19-2026-09-16-2026-10-21-2026-11-18-2026-12-16-2027-01-20-2027-02-17
 /
SUMMARY:RadlVorrang-Treffen MunichWays 3. Mi des Monats
DESCRIPTION:offenes wöchentliches Treffen\n\nDurch Erfahrungsaustausch und
  Netzwerken über alle Aspekte der aktiven Mobilität\, kommen wir in ents
 pannter Atmosphäre vom Diskutieren und Planen ins Handeln und zu konkrete
 n Aktionen.\n\nKomm einfach vorbei!\n\nAlle Details: Stammtisch – offen
 e Treffen für aktive Mobilität
ATTACH;FMTTYPE=image/jpeg:https://www.radentscheidmuenchen.de/wp-content/u
 ploads/2025/01/MunichWays-Logo-300x300-1.png
CATEGORIES:Infoveranstaltung / Debatte / Diskussion / Vortrag,Öffentliche
 Veranstaltung,Wiederkehrende,👉 Empfehlung (andere Veranstalter als REM)
LOCATION:Green City Büro\, Lindwurmstraße 88 (2. Aufgang 5. Stock)\, Mün
 chen\, 80337\, Deutschland
GEO:48.124958;11.548658
X-APPLE-STRUCTURED-LOCATION;VALUE=URI;X-ADDRESS=Lindwurmstraße 88 (2. Aufg
 ang 5. Stock)\, München\, 80337\, Deutschland;X-APPLE-RADIUS=100;X-TITLE=
 Green City Büro:geo:48.124958,11.548658
END:VEVENT
BEGIN:VTIMEZONE
TZID:Europe/Berlin
X-LIC-LOCATION:Europe/Berlin
BEGIN:STANDARD
DTSTART:20261025T020000
TZOFFSETFROM:+0200
TZOFFSETTO:+0100
TZNAME:CET
END:STANDARD
END:VTIMEZONE
END:VCALENDAR