BEGIN:VCALENDAR
VERSION:2.0
PRODID:-//wp-events-plugin.com//7.2.3.1//EN
TZID:Europe/Berlin
X-WR-TIMEZONE:Europe/Berlin
BEGIN:VEVENT
UID:469@radentscheidmuenchen.de
DTSTART;TZID=Europe/Berlin:20260520T170000
DTEND;TZID=Europe/Berlin:20260520T193000
DTSTAMP:20260218T113411Z
URL:https://www.radentscheidmuenchen.de/veranstaltungen/ride-of-silence-20
 26/
SUMMARY:Ride of Silence Mittwoch 20. Mai 2026
DESCRIPTION:Ride of Silence am 20. Mai 2026\nDer Ride of Silence (RoS) is
 t ein internationaler Termin zum Gedenken an die vielen Verkehrstoten übe
 rall auf der Welt. Wie jedes Jahr besuchen wir die weißen Ghostbikes\, um
  der Getöteten zu gedenken\, um Aufmerksamkeit an diesem Kollisionsort zu
  erzeugen und um die Politik zu ermahnen\, sichere Infrastruktur zu schaff
 en.
ATTACH;FMTTYPE=image/jpeg:https://www.radentscheidmuenchen.de/wp-content/u
 ploads/2025/09/2026-05-20-Mittwoch-1700-Ride-of-Silence.png
CATEGORIES:Aktionen,Demonstration,Fahrradfahren,Öffentliche
 Veranstaltung,Wichtiges Datum
LOCATION:tbd\, TBD\, TBD\, Deutschland
X-APPLE-STRUCTURED-LOCATION;VALUE=URI;X-ADDRESS=TBD\, TBD\, Deutschland;X-A
 PPLE-RADIUS=100;X-TITLE=tbd:geo:0,0
END:VEVENT
BEGIN:VTIMEZONE
TZID:Europe/Berlin
X-LIC-LOCATION:Europe/Berlin
BEGIN:DAYLIGHT
DTSTART:20260329T030000
TZOFFSETFROM:+0100
TZOFFSETTO:+0200
TZNAME:CEST
END:DAYLIGHT
END:VTIMEZONE
END:VCALENDAR